BEGIN:VCALENDAR
VERSION:2.0
PRODID:-//Vollgas Richtung Rock - ECPv6.15.18//NONSGML v1.0//EN
CALSCALE:GREGORIAN
METHOD:PUBLISH
X-WR-CALNAME:Vollgas Richtung Rock
X-ORIGINAL-URL:https://vollgas-richtung-rock.de
X-WR-CALDESC:Veranstaltungen für Vollgas Richtung Rock
REFRESH-INTERVAL;VALUE=DURATION:PT1H
X-Robots-Tag:noindex
X-PUBLISHED-TTL:PT1H
BEGIN:VTIMEZONE
TZID:Europe/Berlin
BEGIN:DAYLIGHT
TZOFFSETFROM:+0100
TZOFFSETTO:+0200
TZNAME:CEST
DTSTART:20240331T010000
END:DAYLIGHT
BEGIN:STANDARD
TZOFFSETFROM:+0200
TZOFFSETTO:+0100
TZNAME:CET
DTSTART:20241027T010000
END:STANDARD
BEGIN:DAYLIGHT
TZOFFSETFROM:+0100
TZOFFSETTO:+0200
TZNAME:CEST
DTSTART:20250330T010000
END:DAYLIGHT
BEGIN:STANDARD
TZOFFSETFROM:+0200
TZOFFSETTO:+0100
TZNAME:CET
DTSTART:20251026T010000
END:STANDARD
BEGIN:DAYLIGHT
TZOFFSETFROM:+0100
TZOFFSETTO:+0200
TZNAME:CEST
DTSTART:20260329T010000
END:DAYLIGHT
BEGIN:STANDARD
TZOFFSETFROM:+0200
TZOFFSETTO:+0100
TZNAME:CET
DTSTART:20261025T010000
END:STANDARD
END:VTIMEZONE
BEGIN:VEVENT
DTSTART;VALUE=DATE:20250201
DTEND;VALUE=DATE:20250202
DTSTAMP:20260426T011328
CREATED:20241204T105158Z
LAST-MODIFIED:20241204T105158Z
UID:61205-1738368000-1738454399@vollgas-richtung-rock.de
SUMMARY:Any Given Day - Limitless Tour 2025
DESCRIPTION: Any Given Day touren ein zweites mal mit ihrer Limitless Tour durch Deutschland. \nSupport: The Narrator
URL:https://vollgas-richtung-rock.de/event/any-given-day-limitless-tour-2025/
LOCATION:Modernes Bremen\, Neustadtswall 28\, Bremen\, 28199\, Deutschland
CATEGORIES:Hallenkonzert
ATTACH;FMTTYPE=image/png:https://vollgas-richtung-rock.de/wp-content/uploads/2024/12/any-given-day-fb-post-1200x628-1.png
END:VEVENT
BEGIN:VEVENT
DTSTART;VALUE=DATE:20250206
DTEND;VALUE=DATE:20250207
DTSTAMP:20260426T011328
CREATED:20241204T113634Z
LAST-MODIFIED:20241204T113634Z
UID:61224-1738800000-1738886399@vollgas-richtung-rock.de
SUMMARY:Any Given Day - Limitless Tour 2025
DESCRIPTION:Any Given Day touren ein zweites mal mit ihrer Limitless Tour durch Deutschland.
URL:https://vollgas-richtung-rock.de/event/any-given-day-limitless-tour-2025-7/
LOCATION:Colos – Saal Aschaffenburg\, Rossmarkt 19\, Aschaffenburg\, 63739\, Deutschland
CATEGORIES:Hallenkonzert
ATTACH;FMTTYPE=image/png:https://vollgas-richtung-rock.de/wp-content/uploads/2024/12/any-given-day-fb-post-1200x628-1.png
END:VEVENT
BEGIN:VEVENT
DTSTART;VALUE=DATE:20250207
DTEND;VALUE=DATE:20250208
DTSTAMP:20260426T011329
CREATED:20241204T113915Z
LAST-MODIFIED:20241204T113915Z
UID:61226-1738886400-1738972799@vollgas-richtung-rock.de
SUMMARY:Any Given Day - Limitless Tour 2025
DESCRIPTION:Any Given Day touren ein zweites mal mit ihrer Limitless Tour durch Deutschland.
URL:https://vollgas-richtung-rock.de/event/any-given-day-limitless-tour-2025-8/
LOCATION:Kulturhaus Stattbahnhof Schweinfurt\, Alte Bahnhofstr. 8-12\, Schweinfurt\, 97422\, Deutschland
CATEGORIES:Hallenkonzert
ATTACH;FMTTYPE=image/png:https://vollgas-richtung-rock.de/wp-content/uploads/2024/12/any-given-day-fb-post-1200x628-1.png
END:VEVENT
BEGIN:VEVENT
DTSTART;VALUE=DATE:20250208
DTEND;VALUE=DATE:20250209
DTSTAMP:20260426T011329
CREATED:20241204T114218Z
LAST-MODIFIED:20241204T114218Z
UID:61228-1738972800-1739059199@vollgas-richtung-rock.de
SUMMARY:Any Given Day - Limitless Tour 2025
DESCRIPTION:Any Given Day touren ein zweites mal mit ihrer Limitless Tour durch Deutschland.
URL:https://vollgas-richtung-rock.de/event/any-given-day-limitless-tour-2025-9/
LOCATION:Club Vaudeville Lindau\, Von Behringstraße 6-8\, Lindau\, 88131\, Germany
CATEGORIES:Hallenkonzert
ATTACH;FMTTYPE=image/png:https://vollgas-richtung-rock.de/wp-content/uploads/2024/12/any-given-day-fb-post-1200x628-1.png
END:VEVENT
BEGIN:VEVENT
DTSTART;VALUE=DATE:20250213
DTEND;VALUE=DATE:20250214
DTSTAMP:20260426T011329
CREATED:20241204T114630Z
LAST-MODIFIED:20241204T114630Z
UID:61230-1739404800-1739491199@vollgas-richtung-rock.de
SUMMARY:Any Given Day - Limitless Tour 2025
DESCRIPTION:Any Given Day touren ein zweites mal mit ihrer Limitless Tour durch Deutschland.
URL:https://vollgas-richtung-rock.de/event/any-given-day-limitless-tour-2025-10/
LOCATION:Substage Karlsruhe\, Alter Schlachthof 19\, Karlsruhe\, 76131\, Deutschland
CATEGORIES:Hallenkonzert
ATTACH;FMTTYPE=image/png:https://vollgas-richtung-rock.de/wp-content/uploads/2024/12/any-given-day-fb-post-1200x628-1.png
END:VEVENT
BEGIN:VEVENT
DTSTART;VALUE=DATE:20250214
DTEND;VALUE=DATE:20250215
DTSTAMP:20260426T011329
CREATED:20241204T115437Z
LAST-MODIFIED:20241204T115437Z
UID:61232-1739491200-1739577599@vollgas-richtung-rock.de
SUMMARY:Any Given Day - Limitless Tour 2025
DESCRIPTION:Any Given Day touren ein zweites mal mit ihrer Limitless Tour durch Deutschland.
URL:https://vollgas-richtung-rock.de/event/any-given-day-limitless-tour-2025-11/
LOCATION:eventhalle Westpark Ingolstadt\, Am Westpark 2\, Ingolstadt\, 85057\, Germany
CATEGORIES:Hallenkonzert
ATTACH;FMTTYPE=image/png:https://vollgas-richtung-rock.de/wp-content/uploads/2024/12/any-given-day-fb-post-1200x628-1.png
END:VEVENT
BEGIN:VEVENT
DTSTART;VALUE=DATE:20250215
DTEND;VALUE=DATE:20250216
DTSTAMP:20260426T011329
CREATED:20241204T115729Z
LAST-MODIFIED:20241204T115729Z
UID:61235-1739577600-1739663999@vollgas-richtung-rock.de
SUMMARY:Any Given Day - Limitless Tour 2025
DESCRIPTION:Any Given Day touren ein zweites mal mit ihrer Limitless Tour durch Deutschland.
URL:https://vollgas-richtung-rock.de/event/any-given-day-limitless-tour-2025-12/
LOCATION:Roxy Ulm\, Schillerstraße 1/12\, Ulm\, 89077\, Deutschland
CATEGORIES:Hallenkonzert
ATTACH;FMTTYPE=image/png:https://vollgas-richtung-rock.de/wp-content/uploads/2024/12/any-given-day-fb-post-1200x628-1.png
END:VEVENT
END:VCALENDAR