BEGIN:VCALENDAR
VERSION:2.0
PRODID:-//Vollgas Richtung Rock - ECPv6.15.18//NONSGML v1.0//EN
CALSCALE:GREGORIAN
METHOD:PUBLISH
X-ORIGINAL-URL:https://vollgas-richtung-rock.de
X-WR-CALDESC:Veranstaltungen für Vollgas Richtung Rock
REFRESH-INTERVAL;VALUE=DURATION:PT1H
X-Robots-Tag:noindex
X-PUBLISHED-TTL:PT1H
BEGIN:VTIMEZONE
TZID:Europe/Berlin
BEGIN:DAYLIGHT
TZOFFSETFROM:+0100
TZOFFSETTO:+0200
TZNAME:CEST
DTSTART:20240331T010000
END:DAYLIGHT
BEGIN:STANDARD
TZOFFSETFROM:+0200
TZOFFSETTO:+0100
TZNAME:CET
DTSTART:20241027T010000
END:STANDARD
BEGIN:DAYLIGHT
TZOFFSETFROM:+0100
TZOFFSETTO:+0200
TZNAME:CEST
DTSTART:20250330T010000
END:DAYLIGHT
BEGIN:STANDARD
TZOFFSETFROM:+0200
TZOFFSETTO:+0100
TZNAME:CET
DTSTART:20251026T010000
END:STANDARD
BEGIN:DAYLIGHT
TZOFFSETFROM:+0100
TZOFFSETTO:+0200
TZNAME:CEST
DTSTART:20260329T010000
END:DAYLIGHT
BEGIN:STANDARD
TZOFFSETFROM:+0200
TZOFFSETTO:+0100
TZNAME:CET
DTSTART:20261025T010000
END:STANDARD
END:VTIMEZONE
BEGIN:VEVENT
DTSTART;VALUE=DATE:20250123
DTEND;VALUE=DATE:20250124
DTSTAMP:20260426T031340
CREATED:20241204T105744Z
LAST-MODIFIED:20241204T105744Z
UID:61209-1737590400-1737676799@vollgas-richtung-rock.de
SUMMARY:Any Given Day - Limitless Tour 2025
DESCRIPTION:Any Given Day touren ein zweites mal mit ihrer Limitless Tour durch Deutschland.
URL:https://vollgas-richtung-rock.de/event/any-given-day-limitless-tour-2025-2/
LOCATION:F-Haus Jena\, Johannisplatz 14\, Jena\, 07743\, Germany
CATEGORIES:Hallenkonzert
ATTACH;FMTTYPE=image/png:https://vollgas-richtung-rock.de/wp-content/uploads/2024/12/any-given-day-fb-post-1200x628-1.png
END:VEVENT
BEGIN:VEVENT
DTSTART;VALUE=DATE:20250124
DTEND;VALUE=DATE:20250125
DTSTAMP:20260426T031340
CREATED:20241204T110229Z
LAST-MODIFIED:20241204T110229Z
UID:61213-1737676800-1737763199@vollgas-richtung-rock.de
SUMMARY:Any Given Day - Limitless Tour 2025
DESCRIPTION:Any Given Day touren ein zweites mal mit ihrer Limitless Tour durch Deutschland.
URL:https://vollgas-richtung-rock.de/event/any-given-day-limitless-tour-2025-3/
LOCATION:Waschhaus Potsdam\, Schiffbauergasse 6\, Potsdam\, 14467\, Germany
CATEGORIES:Hallenkonzert
ATTACH;FMTTYPE=image/png:https://vollgas-richtung-rock.de/wp-content/uploads/2024/12/any-given-day-fb-post-1200x628-1.png
END:VEVENT
BEGIN:VEVENT
DTSTART;VALUE=DATE:20250125
DTEND;VALUE=DATE:20250126
DTSTAMP:20260426T031340
CREATED:20241204T112231Z
LAST-MODIFIED:20241204T112231Z
UID:61216-1737763200-1737849599@vollgas-richtung-rock.de
SUMMARY:Any Given Day - Limitless Tour 2025
DESCRIPTION:Any Given Day touren ein zweites mal mit ihrer Limitless Tour durch Deutschland.
URL:https://vollgas-richtung-rock.de/event/any-given-day-limitless-tour-2025-4/
LOCATION:Tante JU Dresden\, An der Schleife 1\, Dresden\, 01099
CATEGORIES:Hallenkonzert
ATTACH;FMTTYPE=image/png:https://vollgas-richtung-rock.de/wp-content/uploads/2024/12/any-given-day-fb-post-1200x628-1.png
END:VEVENT
BEGIN:VEVENT
DTSTART;VALUE=DATE:20250130
DTEND;VALUE=DATE:20250131
DTSTAMP:20260426T031341
CREATED:20241204T112549Z
LAST-MODIFIED:20241204T112549Z
UID:61219-1738195200-1738281599@vollgas-richtung-rock.de
SUMMARY:Any Given Day - Limitless Tour 2025
DESCRIPTION:Any Given Day touren ein zweites mal mit ihrer Limitless Tour durch Deutschland.
URL:https://vollgas-richtung-rock.de/event/any-given-day-limitless-tour-2025-5/
LOCATION:Rosenhof Osnabrück\, Rosenpl. 23\, Osnabrück\, 49074\, Germany
CATEGORIES:Hallenkonzert
ATTACH;FMTTYPE=image/png:https://vollgas-richtung-rock.de/wp-content/uploads/2024/12/any-given-day-fb-post-1200x628-1.png
END:VEVENT
BEGIN:VEVENT
DTSTART;VALUE=DATE:20250131
DTEND;VALUE=DATE:20250201
DTSTAMP:20260426T031341
CREATED:20241204T113005Z
LAST-MODIFIED:20241204T113005Z
UID:61221-1738281600-1738367999@vollgas-richtung-rock.de
SUMMARY:Any Given Day - Limitless Tour 2025
DESCRIPTION:Any Given Day touren ein zweites mal mit ihrer Limitless Tour durch Deutschland.
URL:https://vollgas-richtung-rock.de/event/any-given-day-limitless-tour-2025-6/
LOCATION:Güterbahnhof Papenburg\, Bahnhofstr. 21\, Papenburg\, 26871\, Germany
CATEGORIES:Hallenkonzert
ATTACH;FMTTYPE=image/png:https://vollgas-richtung-rock.de/wp-content/uploads/2024/12/any-given-day-fb-post-1200x628-1.png
END:VEVENT
END:VCALENDAR