BEGIN:VCALENDAR
VERSION:2.0
PRODID:-//Vollgas Richtung Rock - ECPv6.15.18//NONSGML v1.0//EN
CALSCALE:GREGORIAN
METHOD:PUBLISH
X-WR-CALNAME:Vollgas Richtung Rock
X-ORIGINAL-URL:https://vollgas-richtung-rock.de
X-WR-CALDESC:Veranstaltungen für Vollgas Richtung Rock
REFRESH-INTERVAL;VALUE=DURATION:PT1H
X-Robots-Tag:noindex
X-PUBLISHED-TTL:PT1H
BEGIN:VTIMEZONE
TZID:Europe/Berlin
BEGIN:DAYLIGHT
TZOFFSETFROM:+0100
TZOFFSETTO:+0200
TZNAME:CEST
DTSTART:20240331T010000
END:DAYLIGHT
BEGIN:STANDARD
TZOFFSETFROM:+0200
TZOFFSETTO:+0100
TZNAME:CET
DTSTART:20241027T010000
END:STANDARD
BEGIN:DAYLIGHT
TZOFFSETFROM:+0100
TZOFFSETTO:+0200
TZNAME:CEST
DTSTART:20250330T010000
END:DAYLIGHT
BEGIN:STANDARD
TZOFFSETFROM:+0200
TZOFFSETTO:+0100
TZNAME:CET
DTSTART:20251026T010000
END:STANDARD
BEGIN:DAYLIGHT
TZOFFSETFROM:+0100
TZOFFSETTO:+0200
TZNAME:CEST
DTSTART:20260329T010000
END:DAYLIGHT
BEGIN:STANDARD
TZOFFSETFROM:+0200
TZOFFSETTO:+0100
TZNAME:CET
DTSTART:20261025T010000
END:STANDARD
END:VTIMEZONE
BEGIN:VEVENT
DTSTART;VALUE=DATE:20251205
DTEND;VALUE=DATE:20251206
DTSTAMP:20260424T185051
CREATED:20251103T095822Z
LAST-MODIFIED:20251103T095822Z
UID:75483-1764892800-1764979199@vollgas-richtung-rock.de
SUMMARY:ENGST – 10 Jahre Jubiläumstour 2025
DESCRIPTION:Zehn Jahre\, ungezählte Nächte\, eine Mission: Die Berliner Band ENGST feiern ihr Jubiläum – und ihr seid mit dabei! \nBands:  ENGST\, Alex Mofa Gang
URL:https://vollgas-richtung-rock.de/event/engst-10-jahre-jubilaeumstour-2025-6/
LOCATION:Substage Karlsruhe\, Alter Schlachthof 19\, Karlsruhe\, 76131\, Deutschland
CATEGORIES:Hallenkonzert
ATTACH;FMTTYPE=image/jpeg:https://vollgas-richtung-rock.de/wp-content/uploads/2025/11/flyer1.jpg
END:VEVENT
BEGIN:VEVENT
DTSTART;VALUE=DATE:20251206
DTEND;VALUE=DATE:20251207
DTSTAMP:20260424T185051
CREATED:20251103T094957Z
LAST-MODIFIED:20251103T094957Z
UID:75474-1764979200-1765065599@vollgas-richtung-rock.de
SUMMARY:ENGST – 10 Jahre Jubiläumstour 2025
DESCRIPTION:Zehn Jahre\, ungezählte Nächte\, eine Mission: Die Berliner Band ENGST feiern ihr Jubiläum – und ihr seid mit dabei! \nBands: ENGST\, Alex Mofa Gang
URL:https://vollgas-richtung-rock.de/event/engst-10-jahre-jubilaeumstour-2025-2/
LOCATION:Tante JU Dresden\, An der Schleife 1\, Dresden\, 01099
CATEGORIES:Hallenkonzert
ATTACH;FMTTYPE=image/jpeg:https://vollgas-richtung-rock.de/wp-content/uploads/2025/11/flyer1.jpg
END:VEVENT
BEGIN:VEVENT
DTSTART;VALUE=DATE:20251207
DTEND;VALUE=DATE:20251208
DTSTAMP:20260424T185051
CREATED:20251103T095156Z
LAST-MODIFIED:20251103T095156Z
UID:75476-1765065600-1765151999@vollgas-richtung-rock.de
SUMMARY:ENGST – 10 Jahre Jubiläumstour 2025
DESCRIPTION:Zehn Jahre\, ungezählte Nächte\, eine Mission: Die Berliner Band ENGST feiern ihr Jubiläum – und ihr seid mit dabei! \nBands:  ENGST\, Alex Mofa Gang
URL:https://vollgas-richtung-rock.de/event/engst-10-jahre-jubilaeumstour-2025-3/
LOCATION:Batschkapp Frankfurt\, Gwinnerstraße 5\, Frankfurt am Main\, 60388\, Deutschland
CATEGORIES:Hallenkonzert
ATTACH;FMTTYPE=image/jpeg:https://vollgas-richtung-rock.de/wp-content/uploads/2025/11/flyer1.jpg
END:VEVENT
BEGIN:VEVENT
DTSTART;VALUE=DATE:20251212
DTEND;VALUE=DATE:20251213
DTSTAMP:20260424T185051
CREATED:20251103T100611Z
LAST-MODIFIED:20251103T100611Z
UID:75491-1765497600-1765583999@vollgas-richtung-rock.de
SUMMARY:ENGST – 10 Jahre Jubiläumstour 2025
DESCRIPTION:Zehn Jahre\, ungezählte Nächte\, eine Mission: Die Berliner Band ENGST feiern ihr Jubiläum – und ihr seid mit dabei! \nBands:  ENGST\, Alex Mofa Gang
URL:https://vollgas-richtung-rock.de/event/engst-10-jahre-jubilaeumstour-2025-10/
LOCATION:Szene Wien\, Hauffgasse 26\, Wien\, 1110\, Österreich
CATEGORIES:Hallenkonzert
ATTACH;FMTTYPE=image/jpeg:https://vollgas-richtung-rock.de/wp-content/uploads/2025/11/flyer1.jpg
END:VEVENT
BEGIN:VEVENT
DTSTART;VALUE=DATE:20251213
DTEND;VALUE=DATE:20251214
DTSTAMP:20260424T185051
CREATED:20251103T100215Z
LAST-MODIFIED:20251103T100215Z
UID:75487-1765584000-1765670399@vollgas-richtung-rock.de
SUMMARY:ENGST – 10 Jahre Jubiläumstour 2025
DESCRIPTION:Zehn Jahre\, ungezählte Nächte\, eine Mission: Die Berliner Band ENGST feiern ihr Jubiläum – und ihr seid mit dabei! \nBands:  ENGST\, Alex Mofa Gang
URL:https://vollgas-richtung-rock.de/event/engst-10-jahre-jubilaeumstour-2025-8/
LOCATION:Backstage München\, Reitknechtstraße 6\, München\, 80639\, Deutschland
CATEGORIES:Hallenkonzert
ATTACH;FMTTYPE=image/jpeg:https://vollgas-richtung-rock.de/wp-content/uploads/2025/11/flyer1.jpg
END:VEVENT
BEGIN:VEVENT
DTSTART;VALUE=DATE:20251214
DTEND;VALUE=DATE:20251215
DTSTAMP:20260424T185051
CREATED:20251103T095549Z
LAST-MODIFIED:20251103T095549Z
UID:75481-1765670400-1765756799@vollgas-richtung-rock.de
SUMMARY:ENGST – 10 Jahre Jubiläumstour 2025
DESCRIPTION:Zehn Jahre\, ungezählte Nächte\, eine Mission: Die Berliner Band ENGST feiern ihr Jubiläum – und ihr seid mit dabei! \nBands:  ENGST\, Alex Mofa Gang
URL:https://vollgas-richtung-rock.de/event/engst-10-jahre-jubilaeumstour-2025-5/
LOCATION:Capitol Hannover\, Schwarzer Bär 2\, Hannover\, 30449\, Deutschland
CATEGORIES:Hallenkonzert
ATTACH;FMTTYPE=image/jpeg:https://vollgas-richtung-rock.de/wp-content/uploads/2025/11/flyer1.jpg
END:VEVENT
BEGIN:VEVENT
DTSTART;VALUE=DATE:20251218
DTEND;VALUE=DATE:20251219
DTSTAMP:20260424T185051
CREATED:20251103T095933Z
LAST-MODIFIED:20251103T095933Z
UID:75485-1766016000-1766102399@vollgas-richtung-rock.de
SUMMARY:ENGST – 10 Jahre Jubiläumstour 2025
DESCRIPTION:Zehn Jahre\, ungezählte Nächte\, eine Mission: Die Berliner Band ENGST feiern ihr Jubiläum – und ihr seid mit dabei! \nBands:  ENGST\, Alex Mofa Gang
URL:https://vollgas-richtung-rock.de/event/engst-10-jahre-jubilaeumstour-2025-7/
LOCATION:Essigfabrik Köln\, Siegburger Str. 110\, Köln\, 50679\, Deutschland
CATEGORIES:Hallenkonzert
ATTACH;FMTTYPE=image/jpeg:https://vollgas-richtung-rock.de/wp-content/uploads/2025/11/flyer1.jpg
END:VEVENT
BEGIN:VEVENT
DTSTART;VALUE=DATE:20251219
DTEND;VALUE=DATE:20251220
DTSTAMP:20260424T185051
CREATED:20251103T095436Z
LAST-MODIFIED:20251103T095436Z
UID:75478-1766102400-1766188799@vollgas-richtung-rock.de
SUMMARY:ENGST – 10 Jahre Jubiläumstour 2025
DESCRIPTION:Zehn Jahre\, ungezählte Nächte\, eine Mission: Die Berliner Band ENGST feiern ihr Jubiläum – und ihr seid mit dabei! \nBands:  ENGST\, Alex Mofa Gang
URL:https://vollgas-richtung-rock.de/event/engst-10-jahre-jubilaeumstour-2025-4/
LOCATION:Übel & Gefährlich\, Hamburg\, Feldstraße 66\, Hamburg\, 20359\, Germany
CATEGORIES:Hallenkonzert
ATTACH;FMTTYPE=image/jpeg:https://vollgas-richtung-rock.de/wp-content/uploads/2025/11/flyer1.jpg
END:VEVENT
END:VCALENDAR