BEGIN:VCALENDAR
VERSION:2.0
PRODID:-//Vollgas Richtung Rock - ECPv6.15.18//NONSGML v1.0//EN
CALSCALE:GREGORIAN
METHOD:PUBLISH
X-WR-CALNAME:Vollgas Richtung Rock
X-ORIGINAL-URL:https://vollgas-richtung-rock.de
X-WR-CALDESC:Veranstaltungen für Vollgas Richtung Rock
REFRESH-INTERVAL;VALUE=DURATION:PT1H
X-Robots-Tag:noindex
X-PUBLISHED-TTL:PT1H
BEGIN:VTIMEZONE
TZID:Europe/Berlin
BEGIN:DAYLIGHT
TZOFFSETFROM:+0100
TZOFFSETTO:+0200
TZNAME:CEST
DTSTART:20250330T010000
END:DAYLIGHT
BEGIN:STANDARD
TZOFFSETFROM:+0200
TZOFFSETTO:+0100
TZNAME:CET
DTSTART:20251026T010000
END:STANDARD
BEGIN:DAYLIGHT
TZOFFSETFROM:+0100
TZOFFSETTO:+0200
TZNAME:CEST
DTSTART:20260329T010000
END:DAYLIGHT
BEGIN:STANDARD
TZOFFSETFROM:+0200
TZOFFSETTO:+0100
TZNAME:CET
DTSTART:20261025T010000
END:STANDARD
BEGIN:DAYLIGHT
TZOFFSETFROM:+0100
TZOFFSETTO:+0200
TZNAME:CEST
DTSTART:20270328T010000
END:DAYLIGHT
BEGIN:STANDARD
TZOFFSETFROM:+0200
TZOFFSETTO:+0100
TZNAME:CET
DTSTART:20271031T010000
END:STANDARD
BEGIN:DAYLIGHT
TZOFFSETFROM:+0100
TZOFFSETTO:+0200
TZNAME:CEST
DTSTART:20280326T010000
END:DAYLIGHT
BEGIN:STANDARD
TZOFFSETFROM:+0200
TZOFFSETTO:+0100
TZNAME:CET
DTSTART:20281029T010000
END:STANDARD
END:VTIMEZONE
BEGIN:VEVENT
DTSTART;VALUE=DATE:20261230
DTEND;VALUE=DATE:20261231
DTSTAMP:20260425T010742
CREATED:20251231T091947Z
LAST-MODIFIED:20251231T091947Z
UID:77511-1798588800-1798675199@vollgas-richtung-rock.de
SUMMARY:Subway to Sally – Eisheilige Nacht 2026
DESCRIPTION:Wenn das Jahr sich seinem Ende neigt und kalte Nächte das Land umhüllen\, rufen Subway to Sally erneut zur Eisheiligen Nacht. Unter dem Banner „We Will Folk You!“ wird 2026 wieder gefeiert\, getanzt und gesungen. \nHeadliner: Fiddler’s Green\, Subway to Sally \nSupport: Manntra\, Saint City Orchestra
URL:https://vollgas-richtung-rock.de/event/subway-to-sally-eisheilige-nacht-2026-6/
LOCATION:Waschhaus Potsdam\, Schiffbauergasse 6\, Potsdam\, 14467\, Germany
CATEGORIES:Hallenkonzert
ATTACH;FMTTYPE=image/jpeg:https://vollgas-richtung-rock.de/wp-content/uploads/2025/12/eisheilige-naechte.jpg
END:VEVENT
BEGIN:VEVENT
DTSTART;VALUE=DATE:20270612
DTEND;VALUE=DATE:20270613
DTSTAMP:20260425T010742
CREATED:20251230T220746Z
LAST-MODIFIED:20251230T222151Z
UID:77436-1812758400-1812844799@vollgas-richtung-rock.de
SUMMARY:Die Toten Hosen – Trink Aus! Wir Müssen Gehen – Tour 2026
DESCRIPTION:Sie sind wieder da. Laut\, unbequem und mit genug Energie\, um ganze Stadien umzupflügen. Die Toten Hosen gehen 2026 mit der „Trink Aus! Wir Müssen Gehen“-Tour auf die Straße.\nNoch einmal alles geben\, noch einmal zusammenstehen – das ist kein Rückblick. Das ist Jetzt. \nSupport: TBA
URL:https://vollgas-richtung-rock.de/event/die-toten-hosen-trink-aus-wir-muessen-gehen-tour-2026-28/
LOCATION:Max-Morlock-Stadion Nürnberg\, Max-Morlock-Platz 1\, Nürnberg\, 90471\, Germany
CATEGORIES:Open Air / Festival
ATTACH;FMTTYPE=image/png:https://vollgas-richtung-rock.de/wp-content/uploads/2025/12/Toten-Hosen.png
END:VEVENT
BEGIN:VEVENT
DTSTART;VALUE=DATE:20270617
DTEND;VALUE=DATE:20270618
DTSTAMP:20260425T010742
CREATED:20251230T220505Z
LAST-MODIFIED:20251230T222247Z
UID:77437-1813190400-1813276799@vollgas-richtung-rock.de
SUMMARY:Die Toten Hosen – Trink Aus! Wir Müssen Gehen – Tour 2026
DESCRIPTION:Sie sind wieder da. Laut\, unbequem und mit genug Energie\, um ganze Stadien umzupflügen. Die Toten Hosen gehen 2026 mit der „Trink Aus! Wir Müssen Gehen“-Tour auf die Straße.\nNoch einmal alles geben\, noch einmal zusammenstehen – das ist kein Rückblick. Das ist Jetzt. \nSupport: TBA
URL:https://vollgas-richtung-rock.de/event/die-toten-hosen-trink-aus-wir-muessen-gehen-tour-2026-27/
LOCATION:Maimarktgelände Mannheim\, Xaver-Fuhr-Straße 101\, Mannheim\, 68163\, Germany
CATEGORIES:Open Air / Festival
ATTACH;FMTTYPE=image/png:https://vollgas-richtung-rock.de/wp-content/uploads/2025/12/Toten-Hosen.png
END:VEVENT
BEGIN:VEVENT
DTSTART;VALUE=DATE:20270619
DTEND;VALUE=DATE:20270620
DTSTAMP:20260425T010742
CREATED:20251230T213946Z
LAST-MODIFIED:20251230T222321Z
UID:77443-1813363200-1813449599@vollgas-richtung-rock.de
SUMMARY:Die Toten Hosen – Trink Aus! Wir Müssen Gehen – Tour 2026
DESCRIPTION:Sie sind wieder da. Laut\, unbequem und mit genug Energie\, um ganze Stadien umzupflügen. Die Toten Hosen gehen 2026 mit der „Trink Aus! Wir Müssen Gehen“-Tour auf die Straße.\nNoch einmal alles geben\, noch einmal zusammenstehen – das ist kein Rückblick. Das ist Jetzt. \nSupport: TBA
URL:https://vollgas-richtung-rock.de/event/die-toten-hosen-trink-aus-wir-muessen-gehen-tour-2026-21/
LOCATION:Stadion Wankdorf\, Papiermühlestrasse 71\, Bern\, 3014\, Switzerland
CATEGORIES:Open Air / Festival
ATTACH;FMTTYPE=image/png:https://vollgas-richtung-rock.de/wp-content/uploads/2025/12/Toten-Hosen.png
END:VEVENT
BEGIN:VEVENT
DTSTART;VALUE=DATE:20270623
DTEND;VALUE=DATE:20270624
DTSTAMP:20260425T010742
CREATED:20251230T215511Z
LAST-MODIFIED:20251230T222416Z
UID:77439-1813708800-1813795199@vollgas-richtung-rock.de
SUMMARY:Die Toten Hosen – Trink Aus! Wir Müssen Gehen – Tour 2026
DESCRIPTION:Sie sind wieder da. Laut\, unbequem und mit genug Energie\, um ganze Stadien umzupflügen. Die Toten Hosen gehen 2026 mit der „Trink Aus! Wir Müssen Gehen“-Tour auf die Straße.\nNoch einmal alles geben\, noch einmal zusammenstehen – das ist kein Rückblick. Das ist Jetzt. \nSupport: TBA
URL:https://vollgas-richtung-rock.de/event/die-toten-hosen-trink-aus-wir-muessen-gehen-tour-2026-25/
LOCATION:Messe Graz Open Air\, Messeplatz 1\, Graz\, 8010\, Austria
CATEGORIES:Open Air / Festival
ATTACH;FMTTYPE=image/png:https://vollgas-richtung-rock.de/wp-content/uploads/2025/12/Toten-Hosen.png
END:VEVENT
BEGIN:VEVENT
DTSTART;VALUE=DATE:20270703
DTEND;VALUE=DATE:20270704
DTSTAMP:20260425T010742
CREATED:20251230T215058Z
LAST-MODIFIED:20251230T222458Z
UID:77441-1814572800-1814659199@vollgas-richtung-rock.de
SUMMARY:Die Toten Hosen – Trink Aus! Wir Müssen Gehen – Tour 2026
DESCRIPTION:Sie sind wieder da. Laut\, unbequem und mit genug Energie\, um ganze Stadien umzupflügen. Die Toten Hosen gehen 2026 mit der „Trink Aus! Wir Müssen Gehen“-Tour auf die Straße.\nNoch einmal alles geben\, noch einmal zusammenstehen – das ist kein Rückblick. Das ist Jetzt. \nSupport: TBA
URL:https://vollgas-richtung-rock.de/event/die-toten-hosen-trink-aus-wir-muessen-gehen-tour-2026-23/
LOCATION:Eintracht-Stadion Braunschweig\, Hamburger Straße 210\, Braunschweig\, 38112\, Germany
CATEGORIES:Open Air / Festival
ATTACH;FMTTYPE=image/png:https://vollgas-richtung-rock.de/wp-content/uploads/2025/12/Toten-Hosen.png
END:VEVENT
BEGIN:VEVENT
DTSTART;VALUE=DATE:20270710
DTEND;VALUE=DATE:20270711
DTSTAMP:20260425T010742
CREATED:20251230T215257Z
LAST-MODIFIED:20251230T222620Z
UID:77440-1815177600-1815263999@vollgas-richtung-rock.de
SUMMARY:Die Toten Hosen – Trink Aus! Wir Müssen Gehen – Tour 2026
DESCRIPTION:Sie sind wieder da. Laut\, unbequem und mit genug Energie\, um ganze Stadien umzupflügen. Die Toten Hosen gehen 2026 mit der „Trink Aus! Wir Müssen Gehen“-Tour auf die Straße.\nNoch einmal alles geben\, noch einmal zusammenstehen – das ist kein Rückblick. Das ist Jetzt. \nSupport: TBA
URL:https://vollgas-richtung-rock.de/event/die-toten-hosen-trink-aus-wir-muessen-gehen-tour-2026-24/
LOCATION:Merkur Spiel-Arena Düsseldorf\, Arena-Str. 1\, Düsseldorf\, 40474\, Germany
CATEGORIES:Open Air / Festival
ATTACH;FMTTYPE=image/png:https://vollgas-richtung-rock.de/wp-content/uploads/2025/12/Toten-Hosen.png
END:VEVENT
END:VCALENDAR